BEGIN:VCALENDAR
VERSION:2.0
PRODID:-//Unity of Wichita - ECPv6.15.20//NONSGML v1.0//EN
CALSCALE:GREGORIAN
METHOD:PUBLISH
X-ORIGINAL-URL:https://unityofwichita.org
X-WR-CALDESC:Events for Unity of Wichita
REFRESH-INTERVAL;VALUE=DURATION:PT1H
X-Robots-Tag:noindex
X-PUBLISHED-TTL:PT1H
BEGIN:VTIMEZONE
TZID:America/Chicago
BEGIN:DAYLIGHT
TZOFFSETFROM:-0600
TZOFFSETTO:-0500
TZNAME:CDT
DTSTART:20250309T080000
END:DAYLIGHT
BEGIN:STANDARD
TZOFFSETFROM:-0500
TZOFFSETTO:-0600
TZNAME:CST
DTSTART:20251102T070000
END:STANDARD
BEGIN:DAYLIGHT
TZOFFSETFROM:-0600
TZOFFSETTO:-0500
TZNAME:CDT
DTSTART:20260308T080000
END:DAYLIGHT
BEGIN:STANDARD
TZOFFSETFROM:-0500
TZOFFSETTO:-0600
TZNAME:CST
DTSTART:20261101T070000
END:STANDARD
BEGIN:DAYLIGHT
TZOFFSETFROM:-0600
TZOFFSETTO:-0500
TZNAME:CDT
DTSTART:20270314T080000
END:DAYLIGHT
BEGIN:STANDARD
TZOFFSETFROM:-0500
TZOFFSETTO:-0600
TZNAME:CST
DTSTART:20271107T070000
END:STANDARD
END:VTIMEZONE
BEGIN:VEVENT
DTSTART;TZID=America/Chicago:20261130T130000
DTEND;TZID=America/Chicago:20261130T143000
DTSTAMP:20260425T222114
CREATED:20260419T004344Z
LAST-MODIFIED:20260426T031446Z
UID:10081158-1796043600-1796049000@unityofwichita.org
SUMMARY:ACIM - Circle of Atonement READ THROUGH
DESCRIPTION:Held on ZOOM. \nPlease contact the following leaders to connect with this group. \nLara Pollock – (316) 619-2777Joe Dunlavy (316) 617-3909
URL:https://unityofwichita.org/event/acim-circle-of-atonement-read-through-131/
END:VEVENT
BEGIN:VEVENT
DTSTART;TZID=America/Chicago:20261201T093000
DTEND;TZID=America/Chicago:20261201T100000
DTSTAMP:20260425T222114
CREATED:20260419T004344Z
LAST-MODIFIED:20260426T031447Z
UID:10081159-1796117400-1796119200@unityofwichita.org
SUMMARY:Community Prayer Call
DESCRIPTION:You are invited to join a weekly Community Pray In! \nThis is an opportunity to hold a prayer consciousness each week with other Unity members.During this zoom call we will share personal prayer requests and requests for the community. We will actively pray together before ending the call. Due to the sensitive nature of some prayer requests\, we ask that these calls be held in strict confidence. \nThis is an observance of Affirmative Prayer that speaks to the Spiritual Truths in all situations.Join Rev. Samantha Jones\, for this weekly reset into the flow of Divine Good for us all!Join Zoom Meetinghttps://us02web.zoom.us/j/87873218961 \nMeeting ID: 878 7321 8961One tap mobile+17193594580\,\,87873218961# US+12532158782\,\,87873218961# US (Tacoma) \nDial by your location        +1 719 359 4580 US        +1 253 215 8782 US (Tacoma)        +1 346 248 7799 US (Houston)        +1 669 444 9171 US        +1 669 900 6833 US (San Jose)        +1 564 217 2000 US        +1 646 931 3860 US        +1 929 205 6099 US (New York)        +1 301 715 8592 US (Washington DC)        +1 309 205 3325 US        +1 312 626 6799 US (Chicago)        +1 386 347 5053 USMeeting ID: 878 7321 8961Find your local number: https://us02web.zoom.us/u/kw3wqN25y
URL:https://unityofwichita.org/event/community-prayer-call-24/
LOCATION:https://us02web.zoom.us/j/87873218961
END:VEVENT
BEGIN:VEVENT
DTSTART;TZID=America/Chicago:20261202T093000
DTEND;TZID=America/Chicago:20261202T100000
DTSTAMP:20260425T222114
CREATED:20260419T004345Z
LAST-MODIFIED:20260426T031447Z
UID:10081160-1796203800-1796205600@unityofwichita.org
SUMMARY:Meditation Moment
DESCRIPTION:Join Unity of Wichita each Wednesday morning\, streamed live on Facebook/Youtube\,  in our weekly Meditation Moment.
URL:https://unityofwichita.org/event/meditation-moment-129/
LOCATION:ONLINE
END:VEVENT
BEGIN:VEVENT
DTSTART;TZID=America/Chicago:20261202T130000
DTEND;TZID=America/Chicago:20261202T143000
DTSTAMP:20260425T222114
CREATED:20260419T004345Z
LAST-MODIFIED:20260426T031447Z
UID:10081161-1796216400-1796221800@unityofwichita.org
SUMMARY:Womens Group
DESCRIPTION:Join us in person every Wednesdays at 1PM;\nWomen supporting women through discussion and spiritual exploration.
URL:https://unityofwichita.org/event/womens-group-129/
LOCATION:Unity of Wichita\, 10616 W Maple St\, Wichita\, KS\, United States
GEO:37.679307;-97.465137
X-APPLE-STRUCTURED-LOCATION;VALUE=URI;X-ADDRESS=Unity of Wichita 10616 W Maple St Wichita KS United States;X-APPLE-RADIUS=500;X-TITLE=10616 W Maple St:geo:-97.465137,37.679307
END:VEVENT
BEGIN:VEVENT
DTSTART;TZID=America/Chicago:20261202T173000
DTEND;TZID=America/Chicago:20261202T183000
DTSTAMP:20260425T222114
CREATED:20260419T004346Z
LAST-MODIFIED:20260426T031500Z
UID:10081162-1796232600-1796236200@unityofwichita.org
SUMMARY:A Course In Miracles Circle of Atonement
DESCRIPTION:A Course in Miracles group using the Circle of Atonement materials and structure meeting via Zoom at 5:30 on Wednesdays.  \nFor more information about this group\, please contact:  \nLara Pollock (316) 619-2777Joe Dunlavy (316) 617-3909
URL:https://unityofwichita.org/event/a-course-in-miracles-circle-of-atonement-129/
END:VEVENT
BEGIN:VEVENT
DTSTART;TZID=America/Chicago:20261203T183000
DTEND;TZID=America/Chicago:20261203T203000
DTSTAMP:20260425T222114
CREATED:20260419T004346Z
LAST-MODIFIED:20260426T031500Z
UID:10081164-1796322600-1796329800@unityofwichita.org
SUMMARY:CommUNITY Meditation Night
DESCRIPTION:CommUNITY Meditation Night is a time of group meditation. $5 Suggested Love Donation. Individuals and groups of any experience level are welcome. Each month a facilitator will begin by guiding the journey inward followed by a time of shared silence. This is a powerful activity to calm the body\, quiet the mind\, and awaken to the shared connection of the Spirit within all.
URL:https://unityofwichita.org/event/community-meditation-night-11/
LOCATION:Unity of Wichita\, 10616 W Maple St\, Wichita\, KS\, United States
GEO:37.679307;-97.465137
X-APPLE-STRUCTURED-LOCATION;VALUE=URI;X-ADDRESS=Unity of Wichita 10616 W Maple St Wichita KS United States;X-APPLE-RADIUS=500;X-TITLE=10616 W Maple St:geo:-97.465137,37.679307
END:VEVENT
BEGIN:VEVENT
DTSTART;VALUE=DATE:20261204
DTEND;VALUE=DATE:20261205
DTSTAMP:20260425T222114
CREATED:20260419T004346Z
LAST-MODIFIED:20260426T031500Z
UID:10081163-1796342400-1796428799@unityofwichita.org
SUMMARY:Unity office is closed
DESCRIPTION:Unity office is open Mon – Thurs from 9:30 a.m. -3:30 p.m.
URL:https://unityofwichita.org/event/unity-office-is-closed-127/
END:VEVENT
BEGIN:VEVENT
DTSTART;TZID=America/Chicago:20261206T100000
DTEND;TZID=America/Chicago:20261206T110000
DTSTAMP:20260425T222114
CREATED:20260419T004347Z
LAST-MODIFIED:20260426T031501Z
UID:10081165-1796551200-1796554800@unityofwichita.org
SUMMARY:Sunday Service
DESCRIPTION:Join us on Sunday morning at 10 AM in person at Unity of Wichita\, or on the live stream via Youtube or Facebook.  \nVision: We are centered in love\, celebrating a spiritually awakening world. Unity of Wichita Mission: Inspiring spiritual transformation as a vibrant\, diverse and inclusive community. Unity of Wichita Core Values: We are loving\, inclusive\, empowering\, accepting\, compassionate and welcoming.
URL:https://unityofwichita.org/event/sunday-service-78/
LOCATION:Unity of Wichita\, 10616 W Maple St\, Wichita\, KS\, United States
GEO:37.679307;-97.465137
X-APPLE-STRUCTURED-LOCATION;VALUE=URI;X-ADDRESS=Unity of Wichita 10616 W Maple St Wichita KS United States;X-APPLE-RADIUS=500;X-TITLE=10616 W Maple St:geo:-97.465137,37.679307
END:VEVENT
BEGIN:VEVENT
DTSTART;TZID=America/Chicago:20261207T130000
DTEND;TZID=America/Chicago:20261207T143000
DTSTAMP:20260425T222114
CREATED:20260419T004347Z
LAST-MODIFIED:20260426T031501Z
UID:10081166-1796648400-1796653800@unityofwichita.org
SUMMARY:ACIM - Circle of Atonement READ THROUGH
DESCRIPTION:Held on ZOOM. \nPlease contact the following leaders to connect with this group. \nLara Pollock – (316) 619-2777Joe Dunlavy (316) 617-3909
URL:https://unityofwichita.org/event/acim-circle-of-atonement-read-through-130/
END:VEVENT
BEGIN:VEVENT
DTSTART;TZID=America/Chicago:20261208T093000
DTEND;TZID=America/Chicago:20261208T100000
DTSTAMP:20260425T222114
CREATED:20260419T004347Z
LAST-MODIFIED:20260426T031501Z
UID:10081167-1796722200-1796724000@unityofwichita.org
SUMMARY:Community Prayer Call
DESCRIPTION:You are invited to join a weekly Community Pray In! \nThis is an opportunity to hold a prayer consciousness each week with other Unity members.During this zoom call we will share personal prayer requests and requests for the community. We will actively pray together before ending the call. Due to the sensitive nature of some prayer requests\, we ask that these calls be held in strict confidence. \nThis is an observance of Affirmative Prayer that speaks to the Spiritual Truths in all situations.Join Rev. Samantha Jones\, for this weekly reset into the flow of Divine Good for us all!Join Zoom Meetinghttps://us02web.zoom.us/j/87873218961 \nMeeting ID: 878 7321 8961One tap mobile+17193594580\,\,87873218961# US+12532158782\,\,87873218961# US (Tacoma) \nDial by your location        +1 719 359 4580 US        +1 253 215 8782 US (Tacoma)        +1 346 248 7799 US (Houston)        +1 669 444 9171 US        +1 669 900 6833 US (San Jose)        +1 564 217 2000 US        +1 646 931 3860 US        +1 929 205 6099 US (New York)        +1 301 715 8592 US (Washington DC)        +1 309 205 3325 US        +1 312 626 6799 US (Chicago)        +1 386 347 5053 USMeeting ID: 878 7321 8961Find your local number: https://us02web.zoom.us/u/kw3wqN25y
URL:https://unityofwichita.org/event/community-prayer-call-23/
LOCATION:https://us02web.zoom.us/j/87873218961
END:VEVENT
BEGIN:VEVENT
DTSTART;TZID=America/Chicago:20261209T093000
DTEND;TZID=America/Chicago:20261209T100000
DTSTAMP:20260425T222114
CREATED:20260419T004348Z
LAST-MODIFIED:20260426T031502Z
UID:10081168-1796808600-1796810400@unityofwichita.org
SUMMARY:Meditation Moment
DESCRIPTION:Join Unity of Wichita each Wednesday morning\, streamed live on Facebook/Youtube\,  in our weekly Meditation Moment.
URL:https://unityofwichita.org/event/meditation-moment-135/
LOCATION:ONLINE
END:VEVENT
BEGIN:VEVENT
DTSTART;TZID=America/Chicago:20261209T130000
DTEND;TZID=America/Chicago:20261209T143000
DTSTAMP:20260425T222114
CREATED:20260419T004348Z
LAST-MODIFIED:20260426T031502Z
UID:10081169-1796821200-1796826600@unityofwichita.org
SUMMARY:Womens Group
DESCRIPTION:Join us in person every Wednesdays at 1PM;\nWomen supporting women through discussion and spiritual exploration.
URL:https://unityofwichita.org/event/womens-group-135/
LOCATION:Unity of Wichita\, 10616 W Maple St\, Wichita\, KS\, United States
GEO:37.679307;-97.465137
X-APPLE-STRUCTURED-LOCATION;VALUE=URI;X-ADDRESS=Unity of Wichita 10616 W Maple St Wichita KS United States;X-APPLE-RADIUS=500;X-TITLE=10616 W Maple St:geo:-97.465137,37.679307
END:VEVENT
BEGIN:VEVENT
DTSTART;TZID=America/Chicago:20261209T173000
DTEND;TZID=America/Chicago:20261209T183000
DTSTAMP:20260425T222114
CREATED:20260419T004349Z
LAST-MODIFIED:20260426T031502Z
UID:10081170-1796837400-1796841000@unityofwichita.org
SUMMARY:A Course In Miracles Circle of Atonement
DESCRIPTION:A Course in Miracles group using the Circle of Atonement materials and structure meeting via Zoom at 5:30 on Wednesdays.  \nFor more information about this group\, please contact:  \nLara Pollock (316) 619-2777Joe Dunlavy (316) 617-3909
URL:https://unityofwichita.org/event/a-course-in-miracles-circle-of-atonement-135/
END:VEVENT
BEGIN:VEVENT
DTSTART;TZID=America/Chicago:20261210T183000
DTEND;TZID=America/Chicago:20261210T203000
DTSTAMP:20260425T222114
CREATED:20260419T180952Z
LAST-MODIFIED:20260426T031516Z
UID:10081384-1796927400-1796934600@unityofwichita.org
SUMMARY:CommUNITY Healing Night
DESCRIPTION:CommUNITY Healing Night is a time of shared spiritual\, energetic\, emotional\, and/or physical healing. $5 suggested Love Donation. Each month we will explore different healing modalities. These may include: Reiki Share\, Therapeutic Touch\, Prayer\, Sound Bath\, and more.  These evenings will be facilitated by certified practitioners in each modality. \nPlease join us each month on the 2nd Thursday for CommUNITY Healing Night!
URL:https://unityofwichita.org/event/community-healing-night-15/
LOCATION:Unity of Wichita\, 10616 W Maple St\, Wichita\, KS\, United States
GEO:37.679307;-97.465137
X-APPLE-STRUCTURED-LOCATION;VALUE=URI;X-ADDRESS=Unity of Wichita 10616 W Maple St Wichita KS United States;X-APPLE-RADIUS=500;X-TITLE=10616 W Maple St:geo:-97.465137,37.679307
END:VEVENT
BEGIN:VEVENT
DTSTART;VALUE=DATE:20261211
DTEND;VALUE=DATE:20261212
DTSTAMP:20260425T222114
CREATED:20260419T173452Z
LAST-MODIFIED:20260426T031502Z
UID:10081383-1796947200-1797033599@unityofwichita.org
SUMMARY:Unity office is closed
DESCRIPTION:Unity office is open Mon – Thurs from 9:30 a.m. -3:30 p.m.
URL:https://unityofwichita.org/event/unity-office-is-closed-137/
END:VEVENT
BEGIN:VEVENT
DTSTART;TZID=America/Chicago:20261213T100000
DTEND;TZID=America/Chicago:20261213T110000
DTSTAMP:20260425T222114
CREATED:20260420T205041Z
LAST-MODIFIED:20260426T031516Z
UID:10081385-1797156000-1797159600@unityofwichita.org
SUMMARY:Sunday Service
DESCRIPTION:Join us on Sunday morning at 10 AM in person at Unity of Wichita\, or on the live stream via Youtube or Facebook.  \nVision: We are centered in love\, celebrating a spiritually awakening world. Unity of Wichita Mission: Inspiring spiritual transformation as a vibrant\, diverse and inclusive community. Unity of Wichita Core Values: We are loving\, inclusive\, empowering\, accepting\, compassionate and welcoming.
URL:https://unityofwichita.org/event/sunday-service-88/
LOCATION:Unity of Wichita\, 10616 W Maple St\, Wichita\, KS\, United States
GEO:37.679307;-97.465137
X-APPLE-STRUCTURED-LOCATION;VALUE=URI;X-ADDRESS=Unity of Wichita 10616 W Maple St Wichita KS United States;X-APPLE-RADIUS=500;X-TITLE=10616 W Maple St:geo:-97.465137,37.679307
END:VEVENT
BEGIN:VEVENT
DTSTART;TZID=America/Chicago:20261214T130000
DTEND;TZID=America/Chicago:20261214T143000
DTSTAMP:20260425T222114
CREATED:20260421T021007Z
LAST-MODIFIED:20260426T031516Z
UID:10081386-1797253200-1797258600@unityofwichita.org
SUMMARY:ACIM - Circle of Atonement READ THROUGH
DESCRIPTION:Held on ZOOM. \nPlease contact the following leaders to connect with this group. \nLara Pollock – (316) 619-2777Joe Dunlavy (316) 617-3909
URL:https://unityofwichita.org/event/acim-circle-of-atonement-read-through-141/
END:VEVENT
BEGIN:VEVENT
DTSTART;TZID=America/Chicago:20261215T093000
DTEND;TZID=America/Chicago:20261215T100000
DTSTAMP:20260425T222114
CREATED:20260421T152950Z
LAST-MODIFIED:20260426T031516Z
UID:10081387-1797327000-1797328800@unityofwichita.org
SUMMARY:Community Prayer Call
DESCRIPTION:You are invited to join a weekly Community Pray In! \nThis is an opportunity to hold a prayer consciousness each week with other Unity members.During this zoom call we will share personal prayer requests and requests for the community. We will actively pray together before ending the call. Due to the sensitive nature of some prayer requests\, we ask that these calls be held in strict confidence. \nThis is an observance of Affirmative Prayer that speaks to the Spiritual Truths in all situations.Join Rev. Samantha Jones\, for this weekly reset into the flow of Divine Good for us all!Join Zoom Meetinghttps://us02web.zoom.us/j/87873218961 \nMeeting ID: 878 7321 8961One tap mobile+17193594580\,\,87873218961# US+12532158782\,\,87873218961# US (Tacoma) \nDial by your location        +1 719 359 4580 US        +1 253 215 8782 US (Tacoma)        +1 346 248 7799 US (Houston)        +1 669 444 9171 US        +1 669 900 6833 US (San Jose)        +1 564 217 2000 US        +1 646 931 3860 US        +1 929 205 6099 US (New York)        +1 301 715 8592 US (Washington DC)        +1 309 205 3325 US        +1 312 626 6799 US (Chicago)        +1 386 347 5053 USMeeting ID: 878 7321 8961Find your local number: https://us02web.zoom.us/u/kw3wqN25y
URL:https://unityofwichita.org/event/community-prayer-call-34/
LOCATION:https://us02web.zoom.us/j/87873218961
END:VEVENT
BEGIN:VEVENT
DTSTART;TZID=America/Chicago:20261216T093000
DTEND;TZID=America/Chicago:20261216T100000
DTSTAMP:20260425T222114
CREATED:20260422T023246Z
LAST-MODIFIED:20260426T031517Z
UID:10081388-1797413400-1797415200@unityofwichita.org
SUMMARY:Meditation Moment
DESCRIPTION:Join Unity of Wichita each Wednesday morning\, streamed live on Facebook/Youtube\,  in our weekly Meditation Moment.
URL:https://unityofwichita.org/event/meditation-moment-140/
LOCATION:ONLINE
END:VEVENT
BEGIN:VEVENT
DTSTART;TZID=America/Chicago:20261216T130000
DTEND;TZID=America/Chicago:20261216T143000
DTSTAMP:20260425T222114
CREATED:20260422T152932Z
LAST-MODIFIED:20260426T031517Z
UID:10081389-1797426000-1797431400@unityofwichita.org
SUMMARY:Womens Group
DESCRIPTION:Join us in person every Wednesdays at 1PM;\nWomen supporting women through discussion and spiritual exploration.
URL:https://unityofwichita.org/event/womens-group-140/
LOCATION:Unity of Wichita\, 10616 W Maple St\, Wichita\, KS\, United States
GEO:37.679307;-97.465137
X-APPLE-STRUCTURED-LOCATION;VALUE=URI;X-ADDRESS=Unity of Wichita 10616 W Maple St Wichita KS United States;X-APPLE-RADIUS=500;X-TITLE=10616 W Maple St:geo:-97.465137,37.679307
END:VEVENT
BEGIN:VEVENT
DTSTART;TZID=America/Chicago:20261216T173000
DTEND;TZID=America/Chicago:20261216T183000
DTSTAMP:20260425T222114
CREATED:20260422T195210Z
LAST-MODIFIED:20260426T031517Z
UID:10081390-1797442200-1797445800@unityofwichita.org
SUMMARY:A Course In Miracles Circle of Atonement
DESCRIPTION:A Course in Miracles group using the Circle of Atonement materials and structure meeting via Zoom at 5:30 on Wednesdays.  \nFor more information about this group\, please contact:  \nLara Pollock (316) 619-2777Joe Dunlavy (316) 617-3909
URL:https://unityofwichita.org/event/a-course-in-miracles-circle-of-atonement-140/
END:VEVENT
BEGIN:VEVENT
DTSTART;TZID=America/Chicago:20261217T183000
DTEND;TZID=America/Chicago:20261217T203000
DTSTAMP:20260425T222114
CREATED:20260423T232947Z
LAST-MODIFIED:20260426T031517Z
UID:10081405-1797532200-1797539400@unityofwichita.org
SUMMARY:CommUNITY Music Night
DESCRIPTION:This CommUNITY Music Night is focused on creating a safe\, fun and inclusive environment for all ages! We welcome featured musicians\, open mic poetry\, music bingo\, jam sessions\, or karaoke! Come out and join the fun\, invite a friend\, and lounge in a safe and sober environment in community. \nConsessions are availale for purchase. \n$5 Suggested donation for admission.
URL:https://unityofwichita.org/event/community-music-night-15/
LOCATION:Unity of Wichita\, 10616 W Maple St\, Wichita\, KS\, United States
GEO:37.679307;-97.465137
X-APPLE-STRUCTURED-LOCATION;VALUE=URI;X-ADDRESS=Unity of Wichita 10616 W Maple St Wichita KS United States;X-APPLE-RADIUS=500;X-TITLE=10616 W Maple St:geo:-97.465137,37.679307
END:VEVENT
BEGIN:VEVENT
DTSTART;VALUE=DATE:20261218
DTEND;VALUE=DATE:20261219
DTSTAMP:20260425T222114
CREATED:20260424T023459Z
LAST-MODIFIED:20260426T031517Z
UID:10081406-1797552000-1797638399@unityofwichita.org
SUMMARY:Unity office is closed
DESCRIPTION:Unity office is open Mon – Thurs from 9:30 a.m. -3:30 p.m.
URL:https://unityofwichita.org/event/unity-office-is-closed-138/
END:VEVENT
BEGIN:VEVENT
DTSTART;TZID=America/Chicago:20261220T100000
DTEND;TZID=America/Chicago:20261220T110000
DTSTAMP:20260425T222114
CREATED:20260425T003011Z
LAST-MODIFIED:20260426T031517Z
UID:10081407-1797760800-1797764400@unityofwichita.org
SUMMARY:Sunday Service
DESCRIPTION:Join us on Sunday morning at 10 AM in person at Unity of Wichita\, or on the live stream via Youtube or Facebook.  \nVision: We are centered in love\, celebrating a spiritually awakening world. Unity of Wichita Mission: Inspiring spiritual transformation as a vibrant\, diverse and inclusive community. Unity of Wichita Core Values: We are loving\, inclusive\, empowering\, accepting\, compassionate and welcoming.
URL:https://unityofwichita.org/event/sunday-service-89/
LOCATION:Unity of Wichita\, 10616 W Maple St\, Wichita\, KS\, United States
GEO:37.679307;-97.465137
X-APPLE-STRUCTURED-LOCATION;VALUE=URI;X-ADDRESS=Unity of Wichita 10616 W Maple St Wichita KS United States;X-APPLE-RADIUS=500;X-TITLE=10616 W Maple St:geo:-97.465137,37.679307
END:VEVENT
END:VCALENDAR