BEGIN:VCALENDAR
VERSION:2.0
PRODID:-//Unity of Wichita - ECPv6.15.20//NONSGML v1.0//EN
CALSCALE:GREGORIAN
METHOD:PUBLISH
X-ORIGINAL-URL:https://unityofwichita.org
X-WR-CALDESC:Events for Unity of Wichita
REFRESH-INTERVAL;VALUE=DURATION:PT1H
X-Robots-Tag:noindex
X-PUBLISHED-TTL:PT1H
BEGIN:VTIMEZONE
TZID:America/Chicago
BEGIN:DAYLIGHT
TZOFFSETFROM:-0600
TZOFFSETTO:-0500
TZNAME:CDT
DTSTART:20250309T080000
END:DAYLIGHT
BEGIN:STANDARD
TZOFFSETFROM:-0500
TZOFFSETTO:-0600
TZNAME:CST
DTSTART:20251102T070000
END:STANDARD
BEGIN:DAYLIGHT
TZOFFSETFROM:-0600
TZOFFSETTO:-0500
TZNAME:CDT
DTSTART:20260308T080000
END:DAYLIGHT
BEGIN:STANDARD
TZOFFSETFROM:-0500
TZOFFSETTO:-0600
TZNAME:CST
DTSTART:20261101T070000
END:STANDARD
BEGIN:DAYLIGHT
TZOFFSETFROM:-0600
TZOFFSETTO:-0500
TZNAME:CDT
DTSTART:20270314T080000
END:DAYLIGHT
BEGIN:STANDARD
TZOFFSETFROM:-0500
TZOFFSETTO:-0600
TZNAME:CST
DTSTART:20271107T070000
END:STANDARD
END:VTIMEZONE
BEGIN:VEVENT
DTSTART;TZID=America/Chicago:20260309T130000
DTEND;TZID=America/Chicago:20260309T143000
DTSTAMP:20260424T193259
CREATED:20260308T232225Z
LAST-MODIFIED:20260309T192223Z
UID:10078320-1773061200-1773066600@unityofwichita.org
SUMMARY:ACIM - Circle of Atonement READ THROUGH
DESCRIPTION:Held on ZOOM. \nPlease contact the following leaders to connect with this group. \nLara Pollock – (316) 619-2777Joe Dunlavy (316) 617-3909
URL:https://unityofwichita.org/event/acim-circle-of-atonement-read-through-101/
END:VEVENT
BEGIN:VEVENT
DTSTART;TZID=America/Chicago:20260308T100000
DTEND;TZID=America/Chicago:20260308T110000
DTSTAMP:20260424T193259
CREATED:20260305T172817Z
LAST-MODIFIED:20260308T150706Z
UID:10077649-1772964000-1772967600@unityofwichita.org
SUMMARY:Sunday Service
DESCRIPTION:Join us on Sunday morning at 10 AM in person at Unity of Wichita\, or on the live stream via Youtube or Facebook.  \nVision: We are centered in love\, celebrating a spiritually awakening world. Unity of Wichita Mission: Inspiring spiritual transformation as a vibrant\, diverse and inclusive community. Unity of Wichita Core Values: We are loving\, inclusive\, empowering\, accepting\, compassionate and welcoming.
URL:https://unityofwichita.org/event/sunday-service-48/
LOCATION:Unity of Wichita\, 10616 W Maple St\, Wichita\, KS\, United States
GEO:37.679307;-97.465137
X-APPLE-STRUCTURED-LOCATION;VALUE=URI;X-ADDRESS=Unity of Wichita 10616 W Maple St Wichita KS United States;X-APPLE-RADIUS=500;X-TITLE=10616 W Maple St:geo:-97.465137,37.679307
END:VEVENT
BEGIN:VEVENT
DTSTART;VALUE=DATE:20260306
DTEND;VALUE=DATE:20260307
DTSTAMP:20260424T193259
CREATED:20260305T172817Z
LAST-MODIFIED:20260306T232238Z
UID:10077648-1772755200-1772841599@unityofwichita.org
SUMMARY:Unity office is closed
DESCRIPTION:Unity office is open Mon – Thurs from 9:30 a.m. -3:30 p.m.
URL:https://unityofwichita.org/event/unity-office-is-closed-97/
END:VEVENT
BEGIN:VEVENT
DTSTART;TZID=America/Chicago:20260305T183000
DTEND;TZID=America/Chicago:20260305T203000
DTSTAMP:20260424T193259
CREATED:20260305T172816Z
LAST-MODIFIED:20260306T020316Z
UID:10077647-1772735400-1772742600@unityofwichita.org
SUMMARY:CommUNITY Meditation Night
DESCRIPTION:CommUNITY Meditation Night is a time of group meditation. $5 Suggested Love Donation. Individuals and groups of any experience level are welcome. Each month a facilitator will begin by guiding the journey inward followed by a time of shared silence. This is a powerful activity to calm the body\, quiet the mind\, and awaken to the shared connection of the Spirit within all.
URL:https://unityofwichita.org/event/community-meditation-night-4/
LOCATION:Unity of Wichita\, 10616 W Maple St\, Wichita\, KS\, United States
GEO:37.679307;-97.465137
X-APPLE-STRUCTURED-LOCATION;VALUE=URI;X-ADDRESS=Unity of Wichita 10616 W Maple St Wichita KS United States;X-APPLE-RADIUS=500;X-TITLE=10616 W Maple St:geo:-97.465137,37.679307
END:VEVENT
BEGIN:VEVENT
DTSTART;TZID=America/Chicago:20260304T173000
DTEND;TZID=America/Chicago:20260304T183000
DTSTAMP:20260424T193259
CREATED:20260301T132246Z
LAST-MODIFIED:20260305T000249Z
UID:10076845-1772645400-1772649000@unityofwichita.org
SUMMARY:A Course In Miracles Circle of Atonement
DESCRIPTION:A Course in Miracles group using the Circle of Atonement materials and structure meeting via Zoom at 5:30 on Wednesdays.  \nFor more information about this group\, please contact:  \nLara Pollock (316) 619-2777Joe Dunlavy (316) 617-3909
URL:https://unityofwichita.org/event/a-course-in-miracles-circle-of-atonement-99/
END:VEVENT
BEGIN:VEVENT
DTSTART;TZID=America/Chicago:20260304T130000
DTEND;TZID=America/Chicago:20260304T143000
DTSTAMP:20260424T193259
CREATED:20260301T132245Z
LAST-MODIFIED:20260304T200428Z
UID:10076844-1772629200-1772634600@unityofwichita.org
SUMMARY:Womens Group
DESCRIPTION:Join us in person every Wednesdays at 1PM;\nWomen supporting women through discussion and spiritual exploration.
URL:https://unityofwichita.org/event/womens-group-99/
LOCATION:Unity of Wichita\, 10616 W Maple St\, Wichita\, KS\, United States
GEO:37.679307;-97.465137
X-APPLE-STRUCTURED-LOCATION;VALUE=URI;X-ADDRESS=Unity of Wichita 10616 W Maple St Wichita KS United States;X-APPLE-RADIUS=500;X-TITLE=10616 W Maple St:geo:-97.465137,37.679307
END:VEVENT
BEGIN:VEVENT
DTSTART;TZID=America/Chicago:20260304T093000
DTEND;TZID=America/Chicago:20260304T100000
DTSTAMP:20260424T193259
CREATED:20260301T132245Z
LAST-MODIFIED:20260304T152215Z
UID:10076843-1772616600-1772618400@unityofwichita.org
SUMMARY:Meditation Moment
DESCRIPTION:Join Unity of Wichita each Wednesday morning\, streamed live on Facebook/Youtube\,  in our weekly Meditation Moment.
URL:https://unityofwichita.org/event/meditation-moment-99/
LOCATION:ONLINE
END:VEVENT
BEGIN:VEVENT
DTSTART;TZID=America/Chicago:20260303T093000
DTEND;TZID=America/Chicago:20260303T100000
DTSTAMP:20260424T193259
CREATED:20260301T132243Z
LAST-MODIFIED:20260303T154233Z
UID:10076842-1772530200-1772532000@unityofwichita.org
SUMMARY:Community Pray In
DESCRIPTION:You are invited to join a weekly Community Pray In! \nThis is an opportunity to hold a prayer consciousness each week with other Unity members.During this zoom call we will share personal prayer requests and requests for the community. We will actively pray together before ending the call. Due to the sensitive nature of some prayer requests\, we ask that these calls be held in strict confidence. \nThis is an observance of Affirmative Prayer that speaks to the Spiritual Truths in all situations.Join Rev. Samantha Jones\, for this weekly reset into the flow of Divine Good for us all!Join Zoom Meetinghttps://us02web.zoom.us/j/87873218961 \nMeeting ID: 878 7321 8961One tap mobile+17193594580\,\,87873218961# US+12532158782\,\,87873218961# US (Tacoma) \nDial by your location        +1 719 359 4580 US        +1 253 215 8782 US (Tacoma)        +1 346 248 7799 US (Houston)        +1 669 444 9171 US        +1 669 900 6833 US (San Jose)        +1 564 217 2000 US        +1 646 931 3860 US        +1 929 205 6099 US (New York)        +1 301 715 8592 US (Washington DC)        +1 309 205 3325 US        +1 312 626 6799 US (Chicago)        +1 386 347 5053 USMeeting ID: 878 7321 8961Find your local number: https://us02web.zoom.us/u/kw3wqN25y
URL:https://unityofwichita.org/event/community-pray-in-90/
LOCATION:https://us02web.zoom.us/j/87873218961
END:VEVENT
BEGIN:VEVENT
DTSTART;TZID=America/Chicago:20260302T130000
DTEND;TZID=America/Chicago:20260302T143000
DTSTAMP:20260424T193259
CREATED:20260301T132242Z
LAST-MODIFIED:20260302T202335Z
UID:10076841-1772456400-1772461800@unityofwichita.org
SUMMARY:ACIM - Circle of Atonement READ THROUGH
DESCRIPTION:Held on ZOOM. \nPlease contact the following leaders to connect with this group. \nLara Pollock – (316) 619-2777Joe Dunlavy (316) 617-3909
URL:https://unityofwichita.org/event/acim-circle-of-atonement-read-through-100/
END:VEVENT
BEGIN:VEVENT
DTSTART;TZID=America/Chicago:20260301T100000
DTEND;TZID=America/Chicago:20260301T110000
DTSTAMP:20260424T193259
CREATED:20260301T030747Z
LAST-MODIFIED:20260301T164318Z
UID:10076596-1772359200-1772362800@unityofwichita.org
SUMMARY:Sunday Service
DESCRIPTION:Join us on Sunday morning at 10 AM in person at Unity of Wichita\, or on the live stream via Youtube or Facebook.  \nVision: We are centered in love\, celebrating a spiritually awakening world. Unity of Wichita Mission: Inspiring spiritual transformation as a vibrant\, diverse and inclusive community. Unity of Wichita Core Values: We are loving\, inclusive\, empowering\, accepting\, compassionate and welcoming.
URL:https://unityofwichita.org/event/sunday-service-47/
LOCATION:Unity of Wichita\, 10616 W Maple St\, Wichita\, KS\, United States
GEO:37.679307;-97.465137
X-APPLE-STRUCTURED-LOCATION;VALUE=URI;X-ADDRESS=Unity of Wichita 10616 W Maple St Wichita KS United States;X-APPLE-RADIUS=500;X-TITLE=10616 W Maple St:geo:-97.465137,37.679307
END:VEVENT
BEGIN:VEVENT
DTSTART;TZID=America/Chicago:20260228T093000
DTEND;TZID=America/Chicago:20260228T123000
DTSTAMP:20260424T193259
CREATED:20260226T232229Z
LAST-MODIFIED:20260228T182151Z
UID:10076120-1772271000-1772281800@unityofwichita.org
SUMMARY:Folx With Faith
DESCRIPTION:Folx With Faith – Unity Church ofOverland Park invites you to join an LGBTQIA+ Unity ongoing Spiritgroup. Meets 4th Saturdays\, 10:30am-12:00pm atUCOP and on Zoom. Unity of Wichita will host this ZOOM call every 4thSaturday\, doors open 9:30a-12:30p. 
URL:https://unityofwichita.org/event/folx-with-faith-3/
LOCATION:10616 W Maple St\, Wichita\, KS\, United States
GEO:37.666579;-97.435012
END:VEVENT
BEGIN:VEVENT
DTSTART;TZID=America/Chicago:20260226T183000
DTEND;TZID=America/Chicago:20260226T203000
DTSTAMP:20260424T193259
CREATED:20260225T062204Z
LAST-MODIFIED:20260227T022327Z
UID:10075673-1772130600-1772137800@unityofwichita.org
SUMMARY:CommUNITY Creation Station
DESCRIPTION:CommUNITY Creation Night is an opportunity to consciously create using supplied materials and sharing in the creative process with others. $5 suggested donation. All materials are supplied and demonstrated for those less comfortable with free creation.
URL:https://unityofwichita.org/event/community-creation-station-5/
END:VEVENT
BEGIN:VEVENT
DTSTART;TZID=America/Chicago:20260225T173000
DTEND;TZID=America/Chicago:20260225T183000
DTSTAMP:20260424T193259
CREATED:20260225T062204Z
LAST-MODIFIED:20260225T235400Z
UID:10075672-1772040600-1772044200@unityofwichita.org
SUMMARY:A Course In Miracles Circle of Atonement
DESCRIPTION:A Course in Miracles group using the Circle of Atonement materials and structure meeting via Zoom at 5:30 on Wednesdays.  \nFor more information about this group\, please contact:  \nLara Pollock (316) 619-2777Joe Dunlavy (316) 617-3909
URL:https://unityofwichita.org/event/a-course-in-miracles-circle-of-atonement-98/
END:VEVENT
BEGIN:VEVENT
DTSTART;TZID=America/Chicago:20260225T130000
DTEND;TZID=America/Chicago:20260225T143000
DTSTAMP:20260424T193259
CREATED:20260225T062203Z
LAST-MODIFIED:20260225T202600Z
UID:10075671-1772024400-1772029800@unityofwichita.org
SUMMARY:Womens Group
DESCRIPTION:Join us in person every Wednesdays at 1PM;\nWomen supporting women through discussion and spiritual exploration.
URL:https://unityofwichita.org/event/womens-group-95/
LOCATION:Unity of Wichita\, 10616 W Maple St\, Wichita\, KS\, United States
GEO:37.679307;-97.465137
X-APPLE-STRUCTURED-LOCATION;VALUE=URI;X-ADDRESS=Unity of Wichita 10616 W Maple St Wichita KS United States;X-APPLE-RADIUS=500;X-TITLE=10616 W Maple St:geo:-97.465137,37.679307
END:VEVENT
BEGIN:VEVENT
DTSTART;TZID=America/Chicago:20260225T093000
DTEND;TZID=America/Chicago:20260225T100000
DTSTAMP:20260424T193259
CREATED:20260225T062203Z
LAST-MODIFIED:20260225T150558Z
UID:10075670-1772011800-1772013600@unityofwichita.org
SUMMARY:Meditation Moment
DESCRIPTION:Join Unity of Wichita each Wednesday morning\, streamed live on Facebook/Youtube\,  in our weekly Meditation Moment.
URL:https://unityofwichita.org/event/meditation-moment-98/
LOCATION:ONLINE
END:VEVENT
BEGIN:VEVENT
DTSTART;TZID=America/Chicago:20260224T190000
DTEND;TZID=America/Chicago:20260224T203000
DTSTAMP:20260424T193259
CREATED:20260222T140225Z
LAST-MODIFIED:20260225T022149Z
UID:10074984-1771959600-1771965000@unityofwichita.org
SUMMARY:Concert with Jesse Powers!
DESCRIPTION:An intimate evening concert with New Thougth Musician Singer and Song writer\, Jesse Powers!   \n$25 per ticket \nShe has been featured on Season 12 of PBS’s Songs At The Center. She has several credits to her soulful career:  \n2021Great American Song Contest Finalist “The Love Song of Everything” \n2021Mid-Atlantic Song Contest Finalist “AlpacaSocks” \n2022Positive Music Award Nominee “The Love Song of Everything” \n2025Positive Music Award  “Let ItSlide” \n2025Positive Music Award “Let The Light Come Through” \n Here’s what folks are saying about Jesse: \n“She isabsolutely the cream of the crop of the next wave of New Thoughtsinger-songwriter-entertainers. I highly recommend you book her now while youcan still afford her.” –Greg Tamblyn\, Unity Worldwide Ministries 2018 GraceNote Honoree for Lifetime Achievement in Positive Music \n “Jesse creates a solar systemof love. They will still be talking about her shows in 1000 years.” \n“Sheis a force of artistic goodness\, \napoetic priestess of song”- Lisa Ferraro\, Science of MindMagazine
URL:https://unityofwichita.org/event/concert-with-jesse-powers/
LOCATION:Unity of Wichita Spiritual Center\, 10616 W Maple St\, Wichita\, KS\, United States
GEO:37.679307;-97.465137
X-APPLE-STRUCTURED-LOCATION;VALUE=URI;X-ADDRESS=Unity of Wichita Spiritual Center 10616 W Maple St Wichita KS United States;X-APPLE-RADIUS=500;X-TITLE=10616 W Maple St:geo:-97.465137,37.679307
END:VEVENT
BEGIN:VEVENT
DTSTART;TZID=America/Chicago:20260224T180000
DTEND;TZID=America/Chicago:20260224T190000
DTSTAMP:20260424T193259
CREATED:20260222T140225Z
LAST-MODIFIED:20260225T000236Z
UID:10074983-1771956000-1771959600@unityofwichita.org
SUMMARY:Reception for the Love of Music!
DESCRIPTION:Join us for a receiption of heavy hor’dourves\, conversation\, and celebration of the love of music! A time to share and enjoy the music and spirit of Jesse Powers! \nSuggested donation for this reception is $10 to support Unity of Wichita Spiritual Center.
URL:https://unityofwichita.org/event/reception-for-the-love-of-music/
LOCATION:Unity of Wichita Spiritual Center\, 10616 W Maple St\, Wichita\, KS\, United States
GEO:37.679307;-97.465137
X-APPLE-STRUCTURED-LOCATION;VALUE=URI;X-ADDRESS=Unity of Wichita Spiritual Center 10616 W Maple St Wichita KS United States;X-APPLE-RADIUS=500;X-TITLE=10616 W Maple St:geo:-97.465137,37.679307
END:VEVENT
BEGIN:VEVENT
DTSTART;TZID=America/Chicago:20260224T093000
DTEND;TZID=America/Chicago:20260224T100000
DTSTAMP:20260424T193259
CREATED:20260222T140225Z
LAST-MODIFIED:20260224T154219Z
UID:10074982-1771925400-1771927200@unityofwichita.org
SUMMARY:Community Pray In
DESCRIPTION:You are invited to join a weekly Community Pray In! \nThis is an opportunity to hold a prayer consciousness each week with other Unity members.During this zoom call we will share personal prayer requests and requests for the community. We will actively pray together before ending the call. Due to the sensitive nature of some prayer requests\, we ask that these calls be held in strict confidence. \nThis is an observance of Affirmative Prayer that speaks to the Spiritual Truths in all situations.Join Rev. Samantha Jones\, for this weekly reset into the flow of Divine Good for us all!Join Zoom Meetinghttps://us02web.zoom.us/j/87873218961 \nMeeting ID: 878 7321 8961One tap mobile+17193594580\,\,87873218961# US+12532158782\,\,87873218961# US (Tacoma) \nDial by your location        +1 719 359 4580 US        +1 253 215 8782 US (Tacoma)        +1 346 248 7799 US (Houston)        +1 669 444 9171 US        +1 669 900 6833 US (San Jose)        +1 564 217 2000 US        +1 646 931 3860 US        +1 929 205 6099 US (New York)        +1 301 715 8592 US (Washington DC)        +1 309 205 3325 US        +1 312 626 6799 US (Chicago)        +1 386 347 5053 USMeeting ID: 878 7321 8961Find your local number: https://us02web.zoom.us/u/kw3wqN25y
URL:https://unityofwichita.org/event/community-pray-in-89/
LOCATION:https://us02web.zoom.us/j/87873218961
END:VEVENT
BEGIN:VEVENT
DTSTART;TZID=America/Chicago:20260223T130000
DTEND;TZID=America/Chicago:20260223T143000
DTSTAMP:20260424T193259
CREATED:20260222T140224Z
LAST-MODIFIED:20260223T192325Z
UID:10074981-1771851600-1771857000@unityofwichita.org
SUMMARY:ACIM - Circle of Atonement READ THROUGH
DESCRIPTION:Held on ZOOM. \nPlease contact the following leaders to connect with this group. \nLara Pollock – (316) 619-2777Joe Dunlavy (316) 617-3909
URL:https://unityofwichita.org/event/acim-circle-of-atonement-read-through-99/
END:VEVENT
BEGIN:VEVENT
DTSTART;TZID=America/Chicago:20260222T111500
DTEND;TZID=America/Chicago:20260222T121500
DTSTAMP:20260424T193259
CREATED:20260221T222144Z
LAST-MODIFIED:20260222T180229Z
UID:10074728-1771758900-1771762500@unityofwichita.org
SUMMARY:Spiritual Deep Dive
DESCRIPTION:A monthly group gathering to explore\, share\,  and deepen our spiritual understanding based on the monthly themes and spiritual powers.\nLight snacks will be provided. Attendees are encouraged to bring additional food if so desired.\nFurther info please contact:\nWendy Prater\nwprater070@gmail.com
URL:https://unityofwichita.org/event/spiritual-deep-dive-21/
LOCATION:Unity of Wichita\, 10616 W Maple St\, Wichita\, KS\, United States
GEO:37.679307;-97.465137
X-APPLE-STRUCTURED-LOCATION;VALUE=URI;X-ADDRESS=Unity of Wichita 10616 W Maple St Wichita KS United States;X-APPLE-RADIUS=500;X-TITLE=10616 W Maple St:geo:-97.465137,37.679307
END:VEVENT
BEGIN:VEVENT
DTSTART;TZID=America/Chicago:20260222T100000
DTEND;TZID=America/Chicago:20260222T110000
DTSTAMP:20260424T193259
CREATED:20260221T222143Z
LAST-MODIFIED:20260222T163516Z
UID:10074727-1771754400-1771758000@unityofwichita.org
SUMMARY:Sunday Service
DESCRIPTION:Join us on Sunday morning at 10 AM in person at Unity of Wichita\, or on the live stream via Youtube or Facebook.  \nVision: We are centered in love\, celebrating a spiritually awakening world. Unity of Wichita Mission: Inspiring spiritual transformation as a vibrant\, diverse and inclusive community. Unity of Wichita Core Values: We are loving\, inclusive\, empowering\, accepting\, compassionate and welcoming.
URL:https://unityofwichita.org/event/sunday-service-43/
LOCATION:Unity of Wichita\, 10616 W Maple St\, Wichita\, KS\, United States
GEO:37.679307;-97.465137
X-APPLE-STRUCTURED-LOCATION;VALUE=URI;X-ADDRESS=Unity of Wichita 10616 W Maple St Wichita KS United States;X-APPLE-RADIUS=500;X-TITLE=10616 W Maple St:geo:-97.465137,37.679307
END:VEVENT
BEGIN:VEVENT
DTSTART;TZID=America/Chicago:20260219T183000
DTEND;TZID=America/Chicago:20260219T203000
DTSTAMP:20260424T193259
CREATED:20260219T052219Z
LAST-MODIFIED:20260220T020237Z
UID:10073637-1771525800-1771533000@unityofwichita.org
SUMMARY:CommUNITY Music Night
DESCRIPTION:This CommUNITY Music Night is focused on creating a safe\, fun and inclusive environment for all ages! We welcome featured musicians\, open mic poetry\, music bingo\, jam sessions\, or karaoke! Come out and join the fun\, invite a friend\, and lounge in a safe and sober environment in community. \nConsessions are availale for purchase. \n$5 Suggested donation for admission.
URL:https://unityofwichita.org/event/community-music-night-5/
LOCATION:Unity of Wichita\, 10616 W Maple St\, Wichita\, KS\, United States
GEO:37.679307;-97.465137
X-APPLE-STRUCTURED-LOCATION;VALUE=URI;X-ADDRESS=Unity of Wichita 10616 W Maple St Wichita KS United States;X-APPLE-RADIUS=500;X-TITLE=10616 W Maple St:geo:-97.465137,37.679307
END:VEVENT
BEGIN:VEVENT
DTSTART;TZID=America/Chicago:20260218T173000
DTEND;TZID=America/Chicago:20260218T183000
DTSTAMP:20260424T193259
CREATED:20260215T012204Z
LAST-MODIFIED:20260219T000228Z
UID:10072592-1771435800-1771439400@unityofwichita.org
SUMMARY:A Course In Miracles Circle of Atonement
DESCRIPTION:A Course in Miracles group using the Circle of Atonement materials and structure meeting via Zoom at 5:30 on Wednesdays.  \nFor more information about this group\, please contact:  \nLara Pollock (316) 619-2777Joe Dunlavy (316) 617-3909
URL:https://unityofwichita.org/event/a-course-in-miracles-circle-of-atonement-97/
END:VEVENT
BEGIN:VEVENT
DTSTART;TZID=America/Chicago:20260218T130000
DTEND;TZID=America/Chicago:20260218T143000
DTSTAMP:20260424T193259
CREATED:20260215T012203Z
LAST-MODIFIED:20260218T192429Z
UID:10072591-1771419600-1771425000@unityofwichita.org
SUMMARY:Womens Group
DESCRIPTION:Join us in person every Wednesdays at 1PM;\nWomen supporting women through discussion and spiritual exploration.
URL:https://unityofwichita.org/event/womens-group-94/
LOCATION:Unity of Wichita\, 10616 W Maple St\, Wichita\, KS\, United States
GEO:37.679307;-97.465137
X-APPLE-STRUCTURED-LOCATION;VALUE=URI;X-ADDRESS=Unity of Wichita 10616 W Maple St Wichita KS United States;X-APPLE-RADIUS=500;X-TITLE=10616 W Maple St:geo:-97.465137,37.679307
END:VEVENT
BEGIN:VEVENT
DTSTART;TZID=America/Chicago:20260218T093000
DTEND;TZID=America/Chicago:20260218T100000
DTSTAMP:20260424T193259
CREATED:20260215T012203Z
LAST-MODIFIED:20260218T154226Z
UID:10072590-1771407000-1771408800@unityofwichita.org
SUMMARY:Meditation Moment
DESCRIPTION:Join Unity of Wichita each Wednesday morning\, streamed live on Facebook/Youtube\,  in our weekly Meditation Moment.
URL:https://unityofwichita.org/event/meditation-moment-97/
LOCATION:ONLINE
END:VEVENT
BEGIN:VEVENT
DTSTART;TZID=America/Chicago:20260217T093000
DTEND;TZID=America/Chicago:20260217T100000
DTSTAMP:20260424T193259
CREATED:20260215T012202Z
LAST-MODIFIED:20260217T152207Z
UID:10072589-1771320600-1771322400@unityofwichita.org
SUMMARY:Community Pray In
DESCRIPTION:You are invited to join a weekly Community Pray In! \nThis is an opportunity to hold a prayer consciousness each week with other Unity members.During this zoom call we will share personal prayer requests and requests for the community. We will actively pray together before ending the call. Due to the sensitive nature of some prayer requests\, we ask that these calls be held in strict confidence. \nThis is an observance of Affirmative Prayer that speaks to the Spiritual Truths in all situations.Join Rev. Samantha Jones\, for this weekly reset into the flow of Divine Good for us all!Join Zoom Meetinghttps://us02web.zoom.us/j/87873218961 \nMeeting ID: 878 7321 8961One tap mobile+17193594580\,\,87873218961# US+12532158782\,\,87873218961# US (Tacoma) \nDial by your location        +1 719 359 4580 US        +1 253 215 8782 US (Tacoma)        +1 346 248 7799 US (Houston)        +1 669 444 9171 US        +1 669 900 6833 US (San Jose)        +1 564 217 2000 US        +1 646 931 3860 US        +1 929 205 6099 US (New York)        +1 301 715 8592 US (Washington DC)        +1 309 205 3325 US        +1 312 626 6799 US (Chicago)        +1 386 347 5053 USMeeting ID: 878 7321 8961Find your local number: https://us02web.zoom.us/u/kw3wqN25y
URL:https://unityofwichita.org/event/community-pray-in-88/
LOCATION:https://us02web.zoom.us/j/87873218961
END:VEVENT
BEGIN:VEVENT
DTSTART;TZID=America/Chicago:20260216T130000
DTEND;TZID=America/Chicago:20260216T143000
DTSTAMP:20260424T193259
CREATED:20260215T012201Z
LAST-MODIFIED:20260216T200237Z
UID:10072588-1771246800-1771252200@unityofwichita.org
SUMMARY:ACIM - Circle of Atonement READ THROUGH
DESCRIPTION:Held on ZOOM. \nPlease contact the following leaders to connect with this group. \nLara Pollock – (316) 619-2777Joe Dunlavy (316) 617-3909
URL:https://unityofwichita.org/event/acim-circle-of-atonement-read-through-98/
END:VEVENT
BEGIN:VEVENT
DTSTART;TZID=America/Chicago:20260215T114500
DTEND;TZID=America/Chicago:20260215T124500
DTSTAMP:20260424T193259
CREATED:20260215T012201Z
LAST-MODIFIED:20260215T184225Z
UID:10072587-1771155900-1771159500@unityofwichita.org
SUMMARY:Monthly Board Meeting
DESCRIPTION:The Monthly Board meeting may be observed. If you have an item to present to the Board of Trustees\, please contact the President of the Board prior to the meeting to be added to the agenda.
URL:https://unityofwichita.org/event/monthly-board-meeting-22/
LOCATION:Unity of Wichita\, 10616 W Maple St\, Wichita\, KS\, United States
GEO:37.679307;-97.465137
X-APPLE-STRUCTURED-LOCATION;VALUE=URI;X-ADDRESS=Unity of Wichita 10616 W Maple St Wichita KS United States;X-APPLE-RADIUS=500;X-TITLE=10616 W Maple St:geo:-97.465137,37.679307
END:VEVENT
BEGIN:VEVENT
DTSTART;TZID=America/Chicago:20260215T100000
DTEND;TZID=America/Chicago:20260215T110000
DTSTAMP:20260424T193259
CREATED:20260215T012201Z
LAST-MODIFIED:20260215T160219Z
UID:10072586-1771149600-1771153200@unityofwichita.org
SUMMARY:Sunday Service
DESCRIPTION:Join us on Sunday morning at 10 AM in person at Unity of Wichita\, or on the live stream via Youtube or Facebook.  \nVision: We are centered in love\, celebrating a spiritually awakening world. Unity of Wichita Mission: Inspiring spiritual transformation as a vibrant\, diverse and inclusive community. Unity of Wichita Core Values: We are loving\, inclusive\, empowering\, accepting\, compassionate and welcoming.
URL:https://unityofwichita.org/event/sunday-service-42/
LOCATION:Unity of Wichita\, 10616 W Maple St\, Wichita\, KS\, United States
GEO:37.679307;-97.465137
X-APPLE-STRUCTURED-LOCATION;VALUE=URI;X-ADDRESS=Unity of Wichita 10616 W Maple St Wichita KS United States;X-APPLE-RADIUS=500;X-TITLE=10616 W Maple St:geo:-97.465137,37.679307
END:VEVENT
BEGIN:VEVENT
DTSTART;TZID=America/Chicago:20260212T183000
DTEND;TZID=America/Chicago:20260212T203000
DTSTAMP:20260424T193259
CREATED:20260211T054252Z
LAST-MODIFIED:20260213T022156Z
UID:10071541-1770921000-1770928200@unityofwichita.org
SUMMARY:CommUNITY Healing Night
DESCRIPTION:CommUNITY Healing Night is a time of shared spiritual\, energetic\, emotional\, and/or physical healing. $5 suggested Love Donation. Each month we will explore different healing modalities. These may include: Reiki Share\, Therapeutic Touch\, Prayer\, Sound Bath\, and more.  These evenings will be facilitated by certified practitioners in each modality. \nPlease join us each month on the 2nd Thursday for CommUNITY Healing Night!
URL:https://unityofwichita.org/event/community-healing-night-5/
LOCATION:Unity of Wichita\, 10616 W Maple St\, Wichita\, KS\, United States
GEO:37.679307;-97.465137
X-APPLE-STRUCTURED-LOCATION;VALUE=URI;X-ADDRESS=Unity of Wichita 10616 W Maple St Wichita KS United States;X-APPLE-RADIUS=500;X-TITLE=10616 W Maple St:geo:-97.465137,37.679307
END:VEVENT
END:VCALENDAR